BEGIN:VCALENDAR
VERSION:2.0
PRODID:-//wp-events-plugin.com//7.2.3.1//EN
TZID:America/New_York
X-WR-TIMEZONE:America/New_York
BEGIN:VEVENT
UID:133@certbd.org
DTSTART;TZID=America/New_York:20260530T090000
DTEND;TZID=America/New_York:20260530T120000
DTSTAMP:20260424T193240Z
URL:https://certbd.org/events/3-hour-renewal-legal-training-4/
SUMMARY:3 Hour Renewal Legal Training
DESCRIPTION:Required ADC Renewal Legal Class -  3 hour for subsequent rene
 wals .\n\nCost is 60 dollars taught by Bernice Taylor-Jones.\n\nTo learn m
 ore or register contact: MarilynCenter@outlook.com or 973 580-4278.
CATEGORIES:Mandatory Legal
LOCATION:Online\, Online\, Online\, United States
X-APPLE-STRUCTURED-LOCATION;VALUE=URI;X-ADDRESS=Online\, Online\, United St
 ates;X-APPLE-RADIUS=100;X-TITLE=Online:geo:0,0
END:VEVENT
BEGIN:VTIMEZONE
TZID:America/New_York
X-LIC-LOCATION:America/New_York
BEGIN:DAYLIGHT
DTSTART:20260308T030000
TZOFFSETFROM:-0500
TZOFFSETTO:-0400
TZNAME:EDT
END:DAYLIGHT
END:VTIMEZONE
END:VCALENDAR