BEGIN:VCALENDAR
VERSION:2.0
PRODID:-//wp-events-plugin.com//7.2.3.1//EN
TZID:America/New_York
X-WR-TIMEZONE:America/New_York
BEGIN:VEVENT
UID:130@certbd.org
DTSTART;TZID=America/New_York:20260515T090000
DTEND;TZID=America/New_York:20260515T160000
DTSTAMP:20260421T200015Z
URL:https://certbd.org/events/6-hour-required-legal-training/
SUMMARY:6 hour Required Legal Training
DESCRIPTION:Required ADC Renewal Legal Class -\n\nOcean County College- Bar
 tlet Hall  third floor\n\nOcean County College Students Free\nAll Others 
 $75 paid to Matt Talbot Institute\n\nRegister through   Dr Ed Reading  
 PapaDocNJ@aol.com\n\nLimited Registration
CATEGORIES:Mandatory Legal
LOCATION:Ocean County College- Bartlet Hall  third floor\, Lot 1 College Dr
 \, \, Toms River\, NJ\, 08753\, United States
X-APPLE-STRUCTURED-LOCATION;VALUE=URI;X-ADDRESS=Lot 1 College Dr\, \, Toms 
 River\, NJ\, 08753\, United States;X-APPLE-RADIUS=100;X-TITLE=Ocean County
  College- Bartlet Hall  third floor:geo:0,0
END:VEVENT
BEGIN:VTIMEZONE
TZID:America/New_York
X-LIC-LOCATION:America/New_York
BEGIN:DAYLIGHT
DTSTART:20260308T030000
TZOFFSETFROM:-0500
TZOFFSETTO:-0400
TZNAME:EDT
END:DAYLIGHT
END:VTIMEZONE
END:VCALENDAR