BEGIN:VCALENDAR
VERSION:2.0
PRODID:-//wp-events-plugin.com//7.2.3.1//EN
TZID:America/New_York
X-WR-TIMEZONE:America/New_York
BEGIN:VEVENT
UID:56@certbd.org
DTSTART;TZID=America/New_York:20191219T103000
DTEND;TZID=America/New_York:20191219T143000
DTSTAMP:20191202T151911Z
URL:https://certbd.org/events/written-test-prep-workshop-lcadc-cadc/
SUMMARY:Written Test Prep Workshop- LCADC/CADC
DESCRIPTION:Written Test Prep Workshop will be presented by our Board Chair
 \, Ray Cortese\, who has involved with the IC&RC exams close to thirty yea
 rs.
CATEGORIES:Written Test Prep
LOCATION:Certification Board Offices\, 180 A Tices Ln #205\, E. Brunswick\,
  New Jersey\, 08816\, United States
GEO:40.45487;-74.423652
X-APPLE-STRUCTURED-LOCATION;VALUE=URI;X-ADDRESS=180 A Tices Ln #205\, E. Br
 unswick\, New Jersey\, 08816\, United States;X-APPLE-RADIUS=100;X-TITLE=Ce
 rtification Board Offices:geo:40.45487,-74.423652
END:VEVENT
BEGIN:VTIMEZONE
TZID:America/New_York
X-LIC-LOCATION:America/New_York
BEGIN:STANDARD
DTSTART:20191103T010000
TZOFFSETFROM:-0400
TZOFFSETTO:-0500
TZNAME:EST
END:STANDARD
END:VTIMEZONE
END:VCALENDAR